BEGIN:VCALENDAR
VERSION:2.0
PRODID:-//wp-events-plugin.com//7.2.3.1//EN
TZID:America/New_York
X-WR-TIMEZONE:America/New_York
BEGIN:VEVENT
UID:213@novavets.org
DTSTART;TZID=America/New_York;VALUE=DATE:20260502
DTEND;TZID=America/New_York;VALUE=DATE:20260503
DTSTAMP:20260424T193235Z
URL:https://novavets.org/events/2026-virginia-gold-cup/
SUMMARY:2026 Virginia Gold Cup
DESCRIPTION:NOVA Veterans was chosen as the sole non-profit for the 2026 Vi
 rginia Gold Cup on Saturday\, 02 May 2026.  This is an incredible fundrai
 sing opportunity for our organization as we continue to support the most v
 ulnerable Veterans across northern Virginia.\n\nWe are in needed of MANY V
 olunteers to support this full day of fun\, excitement\, and fundraising!
   For information on the Gold Cup\, see their link here  and to Voluntee
 r for the event contact us at Michelle.Groat@novavets.org or John.Demko@NO
 VAVets.org.
END:VEVENT
BEGIN:VTIMEZONE
TZID:America/New_York
X-LIC-LOCATION:America/New_York
BEGIN:DAYLIGHT
DTSTART:20260308T030000
TZOFFSETFROM:-0500
TZOFFSETTO:-0400
TZNAME:EDT
END:DAYLIGHT
END:VTIMEZONE
END:VCALENDAR