BEGIN:VCALENDAR
VERSION:2.0
PRODID:-//wp-events-plugin.com//7.2.3.1//EN
TZID:America/New_York
X-WR-TIMEZONE:America/New_York
BEGIN:VEVENT
UID:214@novavets.org
DTSTART;TZID=America/New_York:20260516T100000
DTEND;TZID=America/New_York:20260516T140000
DTSTAMP:20260424T192747Z
URL:https://novavets.org/events/manassas-veteran-resource-fair/
SUMMARY:Manassas Veteran Resource Fair
DESCRIPTION:NOVA Veterans is partnering with Manassas\, Virginia Mayor Davi
 s-Younger in their FREE inaugural Veterans Resource Fair on Saturday\, 16 
 May 2026 from 10:00 AM to 2:00 PM.  The Fair will be at Baldwin Intermedi
 ate School (1978 Eagle Way\, Manassas\, Virginia) and will be PACKED with 
 vendors offering the full spectrum of services available to the Military c
 ommunity.  The Vendors will have information on healthcare\, employment o
 pportunities\, housing\, education\, Manassas recreation\, and much more.\
 n\nThis exciting event is open to member of the Military who are still act
 ively serving\, Military Spouses\, Widows &amp\; Widowers\, and -of course
 - Military Veterans.  To be more specific\, YOU are invited if YOU:\n\n 	
 Are serving on active duty\, reserves\, or national guard in any branch of
  service\n 	Previously served in any of those capacities\n 	Are a Spouse\,
  Child\, Widow\, or Widower of anyone who served\n 	Are a caregiver for an
 yone who served\n\n\n\n            To register\, scan th
 e QR code in the flyer here!\n\n\n\n\nIf you are Military/Veteran-friendly
  organization and you would like to have a free table to present to the he
 roes described in the previous paragraph\, contact Mr. Wayne Moore at moor
 e.way@hotmail.com or Mr. John Demko at john.demko@novavets.org
ATTACH;FMTTYPE=image/jpeg:https://novavets.org/wp-content/uploads/2026/04/
 Veterans-Resource-Fair-Final-Flyer-scaled.jpg
END:VEVENT
BEGIN:VTIMEZONE
TZID:America/New_York
X-LIC-LOCATION:America/New_York
BEGIN:DAYLIGHT
DTSTART:20260308T030000
TZOFFSETFROM:-0500
TZOFFSETTO:-0400
TZNAME:EDT
END:DAYLIGHT
END:VTIMEZONE
END:VCALENDAR